BEGIN:VCALENDAR
VERSION:2.0
PRODID:-//EVB+ - ECPv5.16.4.1//NONSGML v1.0//EN
CALSCALE:GREGORIAN
METHOD:PUBLISH
X-WR-CALNAME:EVB+
X-ORIGINAL-URL:https://www.platformevbplus.nl
X-WR-CALDESC:Evenementen voor EVB+
BEGIN:VTIMEZONE
TZID:Europe/Amsterdam
BEGIN:DAYLIGHT
TZOFFSETFROM:+0100
TZOFFSETTO:+0200
TZNAME:CEST
DTSTART:20260329T010000
END:DAYLIGHT
BEGIN:STANDARD
TZOFFSETFROM:+0200
TZOFFSETTO:+0100
TZNAME:CET
DTSTART:20261025T010000
END:STANDARD
END:VTIMEZONE
BEGIN:VEVENT
DTSTART;VALUE=DATE:20260130
DTEND;VALUE=DATE:20260131
DTSTAMP:20260423T134208
CREATED:20260108T092812Z
LAST-MODIFIED:20260108T092939Z
UID:23382-1769731200-1769817599@www.platformevbplus.nl
SUMMARY:BPSW-symposium: Pilot beroepsregistratie begeleiders gehandicaptenzorg
DESCRIPTION:Sta jij ingeschreven als deelnemer aan de pilot beroepsregistratie begeleiders gehandicaptenzorg en in PE Online*? Of overweeg je misschien om deel te nemen? BPSW organiseert op 30 januari het symposium ‘Pilot beroepsregistratie begeleiders gehandicaptenzorg: de dag van de professional’ met een inspirerend programma waarmee je een vliegende start maakt voor jouw beroepsregistratie. Met diverse workshops en twee lezingen van Karel de Corte over mensen met syndroom van Down krijg je deze dag antwoord op een aantal thema’s. \nOok als je niet deelneemt aan de pilot beroepsregistratie begeleiders gehandicaptenzorg\, kun je je aanmelden.\nMeer informatie vind je hier. \n 
URL:https://www.platformevbplus.nl/event/bpsw-symposium-pilot-beroepsregistratie-begeleiders-gehandicaptenzorg/
LOCATION:Utrecht
ATTACH;FMTTYPE=image/jpeg:https://www.platformevbplus.nl/wp-content/uploads/2026/01/Logo-BPSW-2024.jpg
END:VEVENT
END:VCALENDAR