BEGIN:VCALENDAR
VERSION:2.0
PRODID:-//EVB+ - ECPv5.16.4.1//NONSGML v1.0//EN
CALSCALE:GREGORIAN
METHOD:PUBLISH
X-WR-CALNAME:EVB+
X-ORIGINAL-URL:https://www.platformevbplus.nl
X-WR-CALDESC:Evenementen voor EVB+
BEGIN:VTIMEZONE
TZID:Europe/Amsterdam
BEGIN:DAYLIGHT
TZOFFSETFROM:+0100
TZOFFSETTO:+0200
TZNAME:CEST
DTSTART:20260329T010000
END:DAYLIGHT
BEGIN:STANDARD
TZOFFSETFROM:+0200
TZOFFSETTO:+0100
TZNAME:CET
DTSTART:20261025T010000
END:STANDARD
END:VTIMEZONE
BEGIN:VEVENT
DTSTART;TZID=Europe/Amsterdam:20260119T150000
DTEND;TZID=Europe/Amsterdam:20260119T170000
DTSTAMP:20260423T134137
CREATED:20250707T132907Z
LAST-MODIFIED:20250707T132907Z
UID:21663-1768834800-1768842000@www.platformevbplus.nl
SUMMARY:Invulling van de dag voor mensen met EVB+ - vervolg
DESCRIPTION:Eerder hebben we met een groep mensen uit verschillende organisaties bij elkaar gezeten om in gesprek te gaan over het vormgeven van dagbesteding voor mensen met EVB+. We organiseren graag weer een vervolg. Tijdens deze middag vragen we weer twee organisaties een korte inleiding te geven over hoe bij hen een dag eruit ziet van iemand met EVB+. Vervolgens is er ruimte om met elkaar in gesprek te gaan. \nGeef je op via info@platformevbplus.nl \nNB: Deze themabijeenkomst is bestemd voor medewerkers uit de organisaties die zijn aangesloten bij het Kennisplatform EVB+.
URL:https://www.platformevbplus.nl/event/invulling-van-de-dag-voor-mensen-met-evb-vervolg/
ATTACH;FMTTYPE=image/jpeg:https://www.platformevbplus.nl/wp-content/uploads/2023/08/Werken-2.jpg
END:VEVENT
END:VCALENDAR